BEGIN:VCALENDAR
VERSION:2.0
PRODID:icalendar-ruby
CALSCALE:GREGORIAN
METHOD:PUBLISH
BEGIN:VEVENT
DTSTAMP:20260421T114554Z
UID:38-660483@calvarysandusky.org
DTSTART:20260513T223000Z
DTEND:20260514T000000Z
CLASS:PUBLIC
CREATED:20260420T211905
DESCRIPTION:Weekly devotional and Ultimate Frisbee.\nJoin us every Wednesda
 y - rain or shine!
LAST-MODIFIED:20260420T211905
LOCATION:Calvary Lawn and Pavilion
SUMMARY:Ultimate Frisbee
URL;VALUE=URI:https://www.calvarysandusky.org/events/ultimate-frisbee/2026-
 05-13
ATTACH;FILENAME=U-Frisbee-background-only.JPG;FMTTYPE=image/jpeg:https://dq
 5pwpg1q8ru0.cloudfront.net/2026/04/20/17/25/15/c2fe415e-601a-429d-8a9a-dba
 998ae4564/U-Frisbee-background-only.JPG
END:VEVENT
END:VCALENDAR
